Package: CAMERA
Version: 1.60.0
Command: /Library/Frameworks/R.framework/Resources/bin/R CMD INSTALL CAMERA
StartedAt: 2024-10-16 17:39:15 -0400 (Wed, 16 Oct 2024)
EndedAt: 2024-10-16 17:40:15 -0400 (Wed, 16 Oct 2024)
EllapsedTime: 60.3 seconds
RetCode: 0
Status: OK