Package: BufferedMatrix
Version: 1.68.0
Maintainer: Ben Bolstad
MaintainerEmail: bmb at bmbolstad.com
git_url: https://git.bioconductor.org/packages/BufferedMatrix
git_branch: RELEASE_3_19
git_last_commit: af6c73d
git_last_commit_date: 2024-04-30 10:16:21 -0400 (Tue, 30 Apr 2024)