Package: BiocVersion
Version: 3.19.1
Maintainer: Bioconductor Package Maintainer
MaintainerEmail: maintainer at bioconductor.org
git_url: https://git.bioconductor.org/packages/BiocVersion
git_branch: RELEASE_3_19
git_last_commit: 99e637d
git_last_commit_date: 2023-10-25 15:37:46 -0400 (Wed, 25 Oct 2023)