Package: BiocSingular
Version: 1.20.0
Command: /home/biocbuild/bbs-3.19-bioc/R/bin/R CMD check --install=check:BiocSingular.install-out.txt --library=/home/biocbuild/bbs-3.19-bioc/R/site-library --timings BiocSingular_1.20.0.tar.gz
StartedAt: 2024-10-16 22:05:29 -0400 (Wed, 16 Oct 2024)
EndedAt: 2024-10-16 22:08:24 -0400 (Wed, 16 Oct 2024)
EllapsedTime: 175.3 seconds
RetCode: 0
Status: OK
CheckDir: BiocSingular.Rcheck
Warnings: 0