Package: BiocSingular
Version: 1.20.0
Command: /Library/Frameworks/R.framework/Resources/bin/R CMD INSTALL BiocSingular
StartedAt: 2024-06-09 17:15:47 -0400 (Sun, 09 Jun 2024)
EndedAt: 2024-06-09 17:16:26 -0400 (Sun, 09 Jun 2024)
EllapsedTime: 39.4 seconds
RetCode: 0
Status: OK