Package: BiocSingular
Version: 1.20.0
Command: /Library/Frameworks/R.framework/Resources/bin/R CMD build --keep-empty-dirs --no-resave-data BiocSingular
StartedAt: 2024-10-16 20:22:32 -0400 (Wed, 16 Oct 2024)
EndedAt: 2024-10-16 20:23:19 -0400 (Wed, 16 Oct 2024)
EllapsedTime: 46.9 seconds
RetCode: 0
Status: OK
PackageFile: BiocSingular_1.20.0.tar.gz
PackageFileSize: 601.7 <A href="http://en.wikipedia.org/wiki/KiB" target="_blank">KiB</A>