Package: BiocParallel
Version: 1.38.0
Maintainer: Martin Morgan
MaintainerEmail: mtmorgan.bioc at gmail.com
git_url: https://git.bioconductor.org/packages/BiocParallel
git_branch: RELEASE_3_19
git_last_commit: d180bc0
git_last_commit_date: 2024-04-30 10:29:39 -0400 (Tue, 30 Apr 2024)