Package: BiocHail
Version: 1.4.0
Maintainer: Vincent Carey
MaintainerEmail: stvjc at channing.harvard.edu
git_url: https://git.bioconductor.org/packages/BiocHail
git_branch: RELEASE_3_19
git_last_commit: 9d40c00
git_last_commit_date: 2024-04-30 11:49:16 -0400 (Tue, 30 Apr 2024)