Package: BiocFileCache
Version: 2.12.0
Maintainer: Lori Shepherd
MaintainerEmail: lori.shepherd at roswellpark.org
git_url: https://git.bioconductor.org/packages/BiocFileCache
git_branch: RELEASE_3_19
git_last_commit: a655653
git_last_commit_date: 2024-04-30 10:56:59 -0400 (Tue, 30 Apr 2024)