Package: BiocFHIR
Version: 1.6.0
Maintainer: Vincent Carey
MaintainerEmail: stvjc at channing.harvard.edu
git_url: https://git.bioconductor.org/packages/BiocFHIR
git_branch: RELEASE_3_19
git_last_commit: 11ce6e3
git_last_commit_date: 2024-04-30 11:45:41 -0400 (Tue, 30 Apr 2024)