Package: BioTIP
Version: 1.18.0
Command: /home/biocbuild/R/R-beta-2024-04-15_r86425/bin/R CMD check --install=check:BioTIP.install-out.txt --library=/home/biocbuild/R/R-beta-2024-04-15_r86425/site-library --no-vignettes --timings BioTIP_1.18.0.tar.gz
StartedAt: 2024-05-09 05:20:03 -0000 (Thu, 09 May 2024)
EndedAt: 2024-05-09 05:22:09 -0000 (Thu, 09 May 2024)
EllapsedTime: 125.2 seconds
RetCode: 0
Status: WARNINGS
CheckDir: BioTIP.Rcheck
Warnings: 2