Package: BioTIP
Version: 1.18.0
Command: /home/biocbuild/R/R-beta-2024-04-15_r86425/bin/R CMD build --keep-empty-dirs --no-resave-data BioTIP
StartedAt: 2024-05-08 22:49:21 -0000 (Wed, 08 May 2024)
EndedAt: 2024-05-08 22:54:45 -0000 (Wed, 08 May 2024)
EllapsedTime: 323.4 seconds
RetCode: 0
Status: OK
PackageFile: BioTIP_1.18.0.tar.gz
PackageFileSize: 8.818 <A href="http://en.wikipedia.org/wiki/MiB" target="_blank">MiB</A>