Package: BioQC
Version: 1.32.0
Maintainer: Jitao David Zhang
MaintainerEmail: jitao_david.zhang at roche.com
git_url: https://git.bioconductor.org/packages/BioQC
git_branch: RELEASE_3_19
git_last_commit: c94f4cd
git_last_commit_date: 2024-04-30 10:47:01 -0400 (Tue, 30 Apr 2024)