Package: BioNetStat
Version: 1.24.0
Command: /Library/Frameworks/R.framework/Resources/bin/R CMD check --install=check:BioNetStat.install-out.txt --library=/Library/Frameworks/R.framework/Resources/library --no-vignettes --timings BioNetStat_1.24.0.tar.gz
StartedAt: 2024-06-09 19:03:59 -0400 (Sun, 09 Jun 2024)
EndedAt: 2024-06-09 19:09:25 -0400 (Sun, 09 Jun 2024)
EllapsedTime: 325.3 seconds
RetCode: 1
Status: ERROR
CheckDir: BioNetStat.Rcheck
Warnings: NA