Package: BioNetStat
Version: 1.24.0
Command: /Library/Frameworks/R.framework/Resources/bin/R CMD build --keep-empty-dirs --no-resave-data BioNetStat
StartedAt: 2024-06-09 16:00:52 -0400 (Sun, 09 Jun 2024)
EndedAt: 2024-06-09 16:01:16 -0400 (Sun, 09 Jun 2024)
EllapsedTime: 24.6 seconds
RetCode: 0
Status: OK
PackageFile: BioNetStat_1.24.0.tar.gz
PackageFileSize: 2.88 <A href="http://en.wikipedia.org/wiki/MiB" target="_blank">MiB</A>