Package: BioNetStat
Version: 1.24.0
Command: /Library/Frameworks/R.framework/Resources/bin/R CMD INSTALL BioNetStat
StartedAt: 2024-06-09 16:34:18 -0400 (Sun, 09 Jun 2024)
EndedAt: 2024-06-09 16:34:44 -0400 (Sun, 09 Jun 2024)
EllapsedTime: 26.4 seconds
RetCode: 0
Status: OK