Package: BioMVCClass
Version: 1.72.0
Maintainer: Elizabeth Whalen
MaintainerEmail: ewhalen at hsph.harvard.edu
git_url: https://git.bioconductor.org/packages/BioMVCClass
git_branch: RELEASE_3_19
git_last_commit: b9284be
git_last_commit_date: 2024-04-30 10:15:47 -0400 (Tue, 30 Apr 2024)