Package: BioCartaImage
Version: 1.2.0
Command: E:\biocbuild\bbs-3.19-bioc\R\bin\R.exe CMD INSTALL BioCartaImage
StartedAt: 2024-10-16 16:00:42 -0400 (Wed, 16 Oct 2024)
EndedAt: 2024-10-16 16:01:03 -0400 (Wed, 16 Oct 2024)
EllapsedTime: 20.3 seconds
RetCode: 0
Status: OK