Package: BioCartaImage
Version: 1.2.0
Command: rm -rf BioCartaImage.buildbin-libdir && mkdir BioCartaImage.buildbin-libdir && E:\biocbuild\bbs-3.19-bioc\R\bin\R.exe CMD INSTALL --build --library=BioCartaImage.buildbin-libdir BioCartaImage_1.2.0.tar.gz
StartedAt: 2024-10-17 07:24:12 -0400 (Thu, 17 Oct 2024)
EndedAt: 2024-10-17 07:24:38 -0400 (Thu, 17 Oct 2024)
EllapsedTime: 25.7 seconds
RetCode: 0
Status: OK
PackageFile: BioCartaImage_1.2.0.zip
PackageFileSize: 3.668 <A href="http://en.wikipedia.org/wiki/MiB" target="_blank">MiB</A>