Package: BiGGR
Version: 1.40.0
Maintainer: Anand K. Gavai
MaintainerEmail: anand.gavai at bioinformatics.nl
git_url: https://git.bioconductor.org/packages/BiGGR
git_branch: RELEASE_3_19
git_last_commit: 1cf007f
git_last_commit_date: 2024-04-30 10:33:16 -0400 (Tue, 30 Apr 2024)