Package: BiFET
Version: 1.24.0
Maintainer: Ahrim Youn
MaintainerEmail: Ahrim.Youn at jax.org
git_url: https://git.bioconductor.org/packages/BiFET
git_branch: RELEASE_3_19
git_last_commit: c4f9fb6
git_last_commit_date: 2024-04-30 11:03:20 -0400 (Tue, 30 Apr 2024)