Package: BgeeCall
Version: 1.20.0
Command: /Library/Frameworks/R.framework/Resources/bin/R CMD INSTALL BgeeCall
StartedAt: 2024-06-09 15:19:20 -0400 (Sun, 09 Jun 2024)
EndedAt: 2024-06-09 15:20:09 -0400 (Sun, 09 Jun 2024)
EllapsedTime: 48.4 seconds
RetCode: 0
Status: OK