Package: BgeeCall
Version: 1.20.0
Command: /Library/Frameworks/R.framework/Resources/bin/R CMD check --install=check:BgeeCall.install-out.txt --library=/Library/Frameworks/R.framework/Resources/library --no-vignettes --timings BgeeCall_1.20.0.tar.gz
StartedAt: 2024-06-09 18:55:51 -0400 (Sun, 09 Jun 2024)
EndedAt: 2024-06-09 19:01:27 -0400 (Sun, 09 Jun 2024)
EllapsedTime: 336.2 seconds
RetCode: 0
Status: OK
CheckDir: BgeeCall.Rcheck
Warnings: 0