Package: BgeeCall Version: 1.20.0 Command: rm -rf BgeeCall.buildbin-libdir && mkdir BgeeCall.buildbin-libdir && /Users/biocbuild/BBS/utils/build-universal.sh BgeeCall_1.20.0.tar.gz /Library/Frameworks/R.framework/Resources/bin/R BgeeCall.buildbin-libdir StartedAt: 2024-06-10 00:08:04 -0400 (Mon, 10 Jun 2024) EndedAt: 2024-06-10 00:08:58 -0400 (Mon, 10 Jun 2024) EllapsedTime: 53.2 seconds RetCode: 0 Status: OK PackageFile: BgeeCall_1.20.0.tgz PackageFileSize: 5.951 <A href="http://en.wikipedia.org/wiki/MiB" target="_blank">MiB</A>