Package: BeadDataPackR
Version: 1.56.0
Command: chmod a+r BeadDataPackR -R && E:\biocbuild\bbs-3.19-bioc\R\bin\R.exe CMD build --keep-empty-dirs --no-resave-data BeadDataPackR
StartedAt: 2024-10-16 17:42:43 -0400 (Wed, 16 Oct 2024)
EndedAt: 2024-10-16 17:42:57 -0400 (Wed, 16 Oct 2024)
EllapsedTime: 14.3 seconds
RetCode: 0
Status: OK
PackageFile: BeadDataPackR_1.56.0.tar.gz
PackageFileSize: 236.5 <A href="http://en.wikipedia.org/wiki/KiB" target="_blank">KiB</A>