Package: BeadDataPackR
Version: 1.56.0
Command: /Library/Frameworks/R.framework/Resources/bin/R CMD INSTALL BeadDataPackR
StartedAt: 2024-06-09 15:02:22 -0400 (Sun, 09 Jun 2024)
EndedAt: 2024-06-09 15:02:26 -0400 (Sun, 09 Jun 2024)
EllapsedTime: 4.1 seconds
RetCode: 0
Status: OK