Package: BayesKnockdown
Version: 1.30.0
Maintainer: William Chad Young
MaintainerEmail: wmchad at uw.edu
git_url: https://git.bioconductor.org/packages/BayesKnockdown
git_branch: RELEASE_3_19
git_last_commit: 36122ca
git_last_commit_date: 2024-04-30 10:52:49 -0400 (Tue, 30 Apr 2024)