Package: BUSseq
Version: 1.10.0
Maintainer: Fangda Song
MaintainerEmail: sfd1994895 at gmail.com
git_url: https://git.bioconductor.org/packages/BUSseq
git_branch: RELEASE_3_19
git_last_commit: 33f9ce4
git_last_commit_date: 2024-04-30 11:35:27 -0400 (Tue, 30 Apr 2024)