Package: BUSpaRse
Version: 1.18.1
Command: rm -rf BUSpaRse.buildbin-libdir && mkdir BUSpaRse.buildbin-libdir && E:\biocbuild\bbs-3.19-bioc\R\bin\R.exe CMD INSTALL --build --library=BUSpaRse.buildbin-libdir BUSpaRse_1.18.1.tar.gz
StartedAt: 2024-10-17 07:28:01 -0400 (Thu, 17 Oct 2024)
EndedAt: 2024-10-17 07:29:38 -0400 (Thu, 17 Oct 2024)
EllapsedTime: 96.3 seconds
RetCode: 0
Status: OK
PackageFile: BUSpaRse_1.18.1.zip
PackageFileSize: 1.123 <A href="http://en.wikipedia.org/wiki/MiB" target="_blank">MiB</A>