Package: BLMA
Version: 1.28.0
Command: /home/biocbuild/bbs-3.19-bioc/R/bin/R CMD check --install=check:BLMA.install-out.txt --library=/home/biocbuild/bbs-3.19-bioc/R/site-library --timings BLMA_1.28.0.tar.gz
StartedAt: 2024-10-16 22:13:43 -0400 (Wed, 16 Oct 2024)
EndedAt: 2024-10-16 22:23:56 -0400 (Wed, 16 Oct 2024)
EllapsedTime: 613.2 seconds
RetCode: 0
Status: OK
CheckDir: BLMA.Rcheck
Warnings: 0