Package: BASiCStan
Version: 1.6.0
Maintainer: Alan O'Callaghan
MaintainerEmail: alan.ocallaghan at outlook.com
git_url: https://git.bioconductor.org/packages/BASiCStan
git_branch: RELEASE_3_19
git_last_commit: 83ee6f9
git_last_commit_date: 2024-04-30 11:44:12 -0400 (Tue, 30 Apr 2024)