Package: AffyRNADegradation
Version: 1.50.0
Maintainer: Mario Fasold
MaintainerEmail: fasold at izbi.uni-leipzig.de
git_url: https://git.bioconductor.org/packages/AffyRNADegradation
git_branch: RELEASE_3_19
git_last_commit: 2be3cbc
git_last_commit_date: 2024-04-30 10:26:32 -0400 (Tue, 30 Apr 2024)