Package: ASpli
Version: 2.14.0
Maintainer: Ariel Chernomoretz
MaintainerEmail: algo107 at gmail.com
git_url: https://git.bioconductor.org/packages/ASpli
git_branch: RELEASE_3_19
git_last_commit: 11a1f6e
git_last_commit_date: 2024-04-30 10:52:43 -0400 (Tue, 30 Apr 2024)