Package: ASAFE
Version: 1.30.0
Maintainer: Qian Zhang
MaintainerEmail: qszhang at uw.edu
git_url: https://git.bioconductor.org/packages/ASAFE
git_branch: RELEASE_3_19
git_last_commit: 4d2dec3
git_last_commit_date: 2024-04-30 10:52:28 -0400 (Tue, 30 Apr 2024)