Package: AMOUNTAIN
Version: 1.30.0
Maintainer: Dong Li
MaintainerEmail: dxl466 at cs.bham.ac.uk
git_url: https://git.bioconductor.org/packages/AMOUNTAIN
git_branch: RELEASE_3_19
git_last_commit: 358c532
git_last_commit_date: 2024-04-30 10:52:13 -0400 (Tue, 30 Apr 2024)