Package: AIMS
Version: 1.36.0
Command: /home/biocbuild/R/R-beta-2024-04-15_r86425/bin/R CMD INSTALL AIMS
StartedAt: 2024-05-08 20:03:10 -0000 (Wed, 08 May 2024)
EndedAt: 2024-05-08 20:03:37 -0000 (Wed, 08 May 2024)
EllapsedTime: 26.6 seconds
RetCode: 0
Status: OK