Package: AIMS
Version: 1.36.0
Command: /home/biocbuild/R/R-beta-2024-04-15_r86425/bin/R CMD build --keep-empty-dirs --no-resave-data AIMS
StartedAt: 2024-05-08 22:15:15 -0000 (Wed, 08 May 2024)
EndedAt: 2024-05-08 22:15:34 -0000 (Wed, 08 May 2024)
EllapsedTime: 19.0 seconds
RetCode: 0
Status: OK
PackageFile: AIMS_1.36.0.tar.gz
PackageFileSize: 482.4 <A href="http://en.wikipedia.org/wiki/KiB" target="_blank">KiB</A>