Package: AIMS
Version: 1.36.0
Command: /Library/Frameworks/R.framework/Resources/bin/R CMD check --install=check:AIMS.install-out.txt --library=/Library/Frameworks/R.framework/Resources/library --no-vignettes --timings AIMS_1.36.0.tar.gz
StartedAt: 2024-10-17 11:55:15 -0400 (Thu, 17 Oct 2024)
EndedAt: 2024-10-17 11:55:53 -0400 (Thu, 17 Oct 2024)
EllapsedTime: 38.7 seconds
RetCode: 0
Status: OK
CheckDir: AIMS.Rcheck
Warnings: 0