Package: AIMS
Version: 1.36.0
Command: rm -rf AIMS.buildbin-libdir && mkdir AIMS.buildbin-libdir && /Users/biocbuild/BBS/utils/build-universal.sh AIMS_1.36.0.tar.gz /Library/Frameworks/R.framework/Resources/bin/R AIMS.buildbin-libdir
StartedAt: 2024-10-18 17:13:15 -0400 (Fri, 18 Oct 2024)
EndedAt: 2024-10-18 17:13:22 -0400 (Fri, 18 Oct 2024)
EllapsedTime: 6.9 seconds
RetCode: 0
Status: OK
PackageFile: AIMS_1.36.0.tgz
PackageFileSize: 500.5 <A href="http://en.wikipedia.org/wiki/KiB" target="_blank">KiB</A>