Package: ADAMgui
Version: 1.20.0
Command: /Library/Frameworks/R.framework/Resources/bin/R CMD build --keep-empty-dirs --no-resave-data ADAMgui
StartedAt: 2024-06-09 17:51:42 -0400 (Sun, 09 Jun 2024)
EndedAt: 2024-06-09 17:52:39 -0400 (Sun, 09 Jun 2024)
EllapsedTime: 57.4 seconds
RetCode: 0
Status: OK
PackageFile: ADAMgui_1.20.0.tar.gz
PackageFileSize: 1.745 <A href="http://en.wikipedia.org/wiki/MiB" target="_blank">MiB</A>