Package: ADAMgui
Version: 1.20.0
Command: rm -rf ADAMgui.buildbin-libdir && mkdir ADAMgui.buildbin-libdir && /Users/biocbuild/BBS/utils/build-universal.sh ADAMgui_1.20.0.tar.gz /Library/Frameworks/R.framework/Resources/bin/R ADAMgui.buildbin-libdir
StartedAt: 2024-06-11 10:02:50 -0400 (Tue, 11 Jun 2024)
EndedAt: 2024-06-11 10:03:46 -0400 (Tue, 11 Jun 2024)
EllapsedTime: 56.2 seconds
RetCode: 0
Status: OK
PackageFile: ADAMgui_1.20.0.tgz
PackageFileSize: 917.6 <A href="http://en.wikipedia.org/wiki/KiB" target="_blank">KiB</A>