Package: ABarray
Version: 1.72.0
Maintainer: Yongming Andrew Sun
MaintainerEmail: sunya at appliedbiosystems.com
git_url: https://git.bioconductor.org/packages/ABarray
git_branch: RELEASE_3_19
git_last_commit: d0660af
git_last_commit_date: 2024-04-30 10:15:35 -0400 (Tue, 30 Apr 2024)