Package: ABSSeq
Version: 1.58.0
Maintainer: Wentao Yang
MaintainerEmail: wyang at zoologie.uni-kiel.de
git_url: https://git.bioconductor.org/packages/ABSSeq
git_branch: RELEASE_3_19
git_last_commit: 05f507f
git_last_commit_date: 2024-04-30 10:35:52 -0400 (Tue, 30 Apr 2024)