Package: sangerseqR Version: 1.36.0 Command: rm -rf sangerseqR.buildbin-libdir && mkdir sangerseqR.buildbin-libdir && /Users/biocbuild/BBS/utils/build-universal.sh sangerseqR_1.36.0.tar.gz /Library/Frameworks/R.framework/Resources/bin/R sangerseqR.buildbin-libdir StartedAt: 2023-10-19 16:49:42 -0400 (Thu, 19 Oct 2023) EndedAt: 2023-10-19 16:50:23 -0400 (Thu, 19 Oct 2023) EllapsedTime: 40.6 seconds RetCode: 0 Status: OK PackageFile: sangerseqR_1.36.0.tgz PackageFileSize: 3.101 MiB