Package: rhdf5client Version: 1.22.3 Command: /Library/Frameworks/R.framework/Resources/bin/R CMD INSTALL rhdf5client StartedAt: 2023-10-15 15:42:23 -0400 (Sun, 15 Oct 2023) EndedAt: 2023-10-15 15:42:51 -0400 (Sun, 15 Oct 2023) EllapsedTime: 28.7 seconds RetCode: 0 Status: OK