Package: pqsfinder
Version: 2.16.0
Command: /Library/Frameworks/R.framework/Resources/bin/R CMD build --keep-empty-dirs --no-resave-data pqsfinder
StartedAt: 2023-10-16 14:37:27 -0400 (Mon, 16 Oct 2023)
EndedAt: 2023-10-16 14:41:25 -0400 (Mon, 16 Oct 2023)
EllapsedTime: 238.7 seconds
RetCode: 0
Status: OK
PackageFile: pqsfinder_2.16.0.tar.gz
PackageFileSize: 363.8 <A href="http://en.wikipedia.org/wiki/KiB" target="_blank">KiB</A>