##############################################################################
##############################################################################
###
### Running command:
###
###   /Library/Frameworks/R.framework/Resources/bin/R CMD build --keep-empty-dirs --no-resave-data pqsfinder
###
##############################################################################
##############################################################################


* checking for file ‘pqsfinder/DESCRIPTION’ ... OK
* preparing ‘pqsfinder’:
* checking DESCRIPTION meta-information ... OK
* cleaning src
* running ‘cleanup’
* installing the package to build vignettes
* creating vignettes ... OK
* cleaning src
* running ‘cleanup’
* checking for LF line-endings in source and make files and shell scripts
* checking for empty or unneeded directories
Omitted ‘LazyData’ from DESCRIPTION
  NB: this package now depends on R (>= 3.5.0)
  WARNING: Added dependency on R >= 3.5.0 because serialized objects in
  serialize/load version 3 cannot be read in older versions of R.
  File(s) containing such objects:
    ‘pqsfinder/inst/extdata/gtrack_ahnak.RData’
    ‘pqsfinder/tests/testthat/pqsfinder_1_4_4_patched.RData’
* building ‘pqsfinder_2.16.0.tar.gz’