Package: pqsfinder
Version: 2.16.0
Command: rm -rf pqsfinder.buildbin-libdir && mkdir pqsfinder.buildbin-libdir && /Users/biocbuild/BBS/utils/build-universal.sh pqsfinder_2.16.0.tar.gz /Library/Frameworks/R.framework/Resources/bin/R pqsfinder.buildbin-libdir
StartedAt: 2023-10-19 15:56:35 -0400 (Thu, 19 Oct 2023)
EndedAt: 2023-10-19 15:58:24 -0400 (Thu, 19 Oct 2023)
EllapsedTime: 108.4 seconds
RetCode: 0
Status: OK
PackageFile: pqsfinder_2.16.0.tgz
PackageFileSize: 1.561 <A href="http://en.wikipedia.org/wiki/MiB" target="_blank">MiB</A>