Package: pRolocGUI Version: 2.10.0 Command: /Library/Frameworks/R.framework/Resources/bin/R CMD check --install=check:pRolocGUI.install-out.txt --library=/Library/Frameworks/R.framework/Resources/library --no-vignettes --timings pRolocGUI_2.10.0.tar.gz StartedAt: 2023-10-18 15:58:41 -0400 (Wed, 18 Oct 2023) EndedAt: 2023-10-18 16:07:15 -0400 (Wed, 18 Oct 2023) EllapsedTime: 513.7 seconds RetCode: 0 Status: OK CheckDir: pRolocGUI.Rcheck Warnings: 0