Package: miRNAtap Version: 1.34.0 Command: /Library/Frameworks/R.framework/Resources/bin/R CMD INSTALL miRNAtap StartedAt: 2023-10-15 16:08:27 -0400 (Sun, 15 Oct 2023) EndedAt: 2023-10-15 16:08:51 -0400 (Sun, 15 Oct 2023) EllapsedTime: 24.4 seconds RetCode: 0 Status: OK